Workbook
Name Append: Export!$A$12
Name CASS1: Control!$A$15
Name CASS1: Export!$A$13
Name CASS1: Welcome!#REF!
Name CASS1: Settings!$A$13
Name CASS10: Control!$A$24
Name CASS10: Export!$A$22
Name CASS10: Welcome!#REF!
Name CASS10: Settings!$A$22
Name CASS11: Control!$A$25
Name CASS11: Export!$A$23
Name CASS11: Welcome!#REF!
Name CASS11: Settings!$A$23
Name CASS12: Control!$A$26
Name CASS12: Export!$A$24
Name CASS12: Welcome!#REF!
Name CASS12: Settings!$A$24
Name CASS1A: Control!$A$16
Name CASS1A: Export!$A$14
Name CASS1A: Welcome!#REF!
Name CASS1A: Settings!$A$14
Name CASS3: Control!$A$17
Name CASS3: Export!$A$15
Name CASS3: Welcome!#REF!
Name CASS3: Settings!$A$15
Name CASS5: Control!$A$18
Name CASS5: Export!$A$16
Name CASS5: Welcome!#REF!
Name CASS5: Settings!$A$16
Name CASS6: Control!$A$19
Name CASS6: Export!$A$17
Name CASS6: Welcome!#REF!
Name CASS6: Settings!$A$17
Name CASS7: Control!$A$20
Name CASS7: Export!$A$18
Name CASS7: Welcome!#REF!
Name CASS7: Settings!$A$18
Name CASS7A: Control!$A$21
Name CASS7A: Export!$A$19
Name CASS7A: Welcome!#REF!
Name CASS7A: Settings!$A$19
Name CASS8: Control!$A$22
Name CASS8: Export!$A$20
Name CASS8: Welcome!#REF!
Name CASS8: Settings!$A$20
Name CASS9: Control!$A$23
Name CASS9: Export!$A$21
Name CASS9: Welcome!#REF!
Name CASS9: Settings!$A$21
Name DateFormat: Export!$D$13
Name FCA: 'CASS 7'!#REF!
Name FCA_1: 'CASS 7'!#REF!
Name Search: Control!$I$2
Name Search: Export!$I$2
Name Search: Welcome!$I$2
Name Search: Settings!$I$2
Name vDate: Control!$D$11
Name vFull: Control!$A$11
Name vFull: Export!$A$10
Name vFull: Welcome!#REF!

Sheet Control
E2: Search | I2: =HYPERLINK(_xlfn.CONCAT(F3,F2,G3)," ⌕") -> ⌕
F3: https://www.clientmoneyandassets.com/component/search/?searchword= | G3: &searchphrase=all&Itemid=101
C5: Control | F5: Configuration | I5: Export | L5: Licencing
B8: Last Run
A10: FALSE | B10: Username: | D10: Stewart Lancaster
A11: FALSE | B11: Date: | D11: 45694
A12: TRUE | B12: Time: | D12: 0.79305556
B14: CASS Sourcebooks
A15: TRUE | B15: P | C15: CASS 1 - Application and general provisions
A16: TRUE | B16: P | C16: CASS 1A - CASS firm classification and operational oversight
A17: FALSE | B17: P | C17: CASS 3 - Collateral
A18: FALSE | B18: P | C18: CASS 5 - Client money: insurance distribution activity
A19: TRUE | B19: P | C19: CASS 6 - Custody rules
A20: TRUE | B20: P | C20: CASS 7 - Client money rules
A21: FALSE | B21: P | C21: CASS 7A - Client money distribution and transfer
A22: TRUE | B22: P | C22: CASS 8 - Mandates
A23: TRUE | B23: P | C23: CASS 9 - Information to clients
A24: TRUE | B24: P | C24: CASS 10 - CASS resolution pack
A25: FALSE | B25: P | C25: CASS 11 - Debt management client money chapter
A26: FALSE | B26: P | C26: CASS 12 - Commodity Futures Trading Commission Part 30 exemption order
B27: P | C27: CASS 13 - Claims management: client money
B28: P | C28: CASS 14 - Temporary permissions regine - client assets rules

Sheet Settings
E2: Search | F2: CMAR | I2: =HYPERLINK(_xlfn.CONCAT(F3,F2,G3)," ⌕") -> ⌕
F3: https://www.clientmoneyandassets.com/component/search/?searchword= | G3: &searchphrase=all&Itemid=101
C5: Control | F5: Configuration | I5: Export | L5: Licencing
B8: File Settings | I8: lock tab - not tick boxes or seach
A9: FALSE | B9: Start automatically when I sign into Windows | I9: add fullscreen to ini file
A10: FALSE | B10: Always open in full screen mode
A11: TRUE | B11: Use recommended CASS Rules Mapping headings | I11: add additional headings
B12: CASS Sourcebooks
A13: TRUE | B13: CASS 1 - Application and general provisions | H13: =IF(A13=FALSE,"",ROW()-12) -> 1 | I13: CASS 1
A14: TRUE | B14: CASS 1A - CASS firm classification and operational oversight | H14: =IF(A14=FALSE,"",ROW()-12) -> 2 | I14: CASS 1A
A15: TRUE | B15: CASS 3 - Collateral | H15: =IF(A15=FALSE,"",ROW()-12) -> 3 | I15: CASS 3
A16: TRUE | B16: CASS 5 - Client money: insurance distribution activity | H16: =IF(A16=FALSE,"",ROW()-12) -> 4 | I16: CASS 5
A17: TRUE | B17: CASS 6 - Custody rules | H17: =IF(A17=FALSE,"",ROW()-12) -> 5 | I17: CASS 6
A18: TRUE | B18: CASS 7 - Client money rules | H18: =IF(A18=FALSE,"",ROW()-12) -> 6 | I18: CASS 7
A19: TRUE | B19: CASS 7A - Client money distribution and transfer | H19: =IF(A19=FALSE,"",ROW()-12) -> 7 | I19: CASS 7A
A20: TRUE | B20: CASS 8 - Mandates | H20: =IF(A20=FALSE,"",ROW()-12) -> 8 | I20: CASS 8
A21: TRUE | B21: CASS 9 - Information to clients | H21: =IF(A21=FALSE,"",ROW()-12) -> 9 | I21: CASS 9
A22: TRUE | B22: CASS 10 - CASS resolution pack | H22: =IF(A22=FALSE,"",ROW()-12) -> 10 | I22: CASS 10
A23: TRUE | B23: CASS 11 - Debt management client money chapter | H23: =IF(A23=FALSE,"",ROW()-12) -> 11 | I23: CASS 11
A24: TRUE | B24: CASS 12 - Commodity Futures Trading Commission Part 30 exemption order | H24: =IF(A24=FALSE,"",ROW()-12) -> 12 | I24: CASS 12
A25: TRUE | B25: CASS 13 - Claims management: client money
A26: TRUE | B26: CASS 14 - Temporary permissions regine - client assets rules

Sheet Export
E2: Search | F2: CMAR | I2: =HYPERLINK(_xlfn.CONCAT(F3,F2,G3)," ⌕") -> ⌕
F3: https://www.clientmoneyandassets.com/component/search/?searchword= | G3: &searchphrase=all&Itemid=101
C5: Control | F5: Configuration | I5: Export | L5: Licencing
B8: File Settings
A9: FALSE | B9: Directory:
A10: FALSE
A11: TRUE | B11: FileName:
A12: TRUE | D12: Append Date to Filename?
A13: TRUE | B13: Date Format: | D13: YYYY.MM.DD | F13: =IFERROR(IF(D13="","","Example:"),"") -> Example: | G13: =IFERROR(IF(D13="","",TEXT(TODAY(),D13)),"") -> 2025.06.02 | H13: =IF(A13=FALSE,"",ROW()-12) -> 1 | I13: CASS 1
A14: TRUE | H14: =IF(A14=FALSE,"",ROW()-12) -> 2 | I14: CASS 1A
A15: FALSE | D15: Comma Separated Values (.csv) | H15: =IF(A15=FALSE,"",ROW()-12) | I15: CASS 3
A16: TRUE | D16: Microsoft Excel Workbook (.xlsx) | H16: =IF(A16=FALSE,"",ROW()-12) -> 4 | I16: CASS 5
A17: TRUE | D17: Concatenate Sourcebooks into a single file | H17: =IF(A17=FALSE,"",ROW()-12) -> 5 | I17: CASS 6
A18: TRUE | H18: =IF(A18=FALSE,"",ROW()-12) -> 6 | I18: CASS 7
A19: FALSE | H19: =IF(A19=FALSE,"",ROW()-12) | I19: CASS 7A
A20: TRUE | H20: =IF(A20=FALSE,"",ROW()-12) -> 8 | I20: CASS 8
A21: TRUE | H21: =IF(A21=FALSE,"",ROW()-12) -> 9 | I21: CASS 9
A22: TRUE | H22: =IF(A22=FALSE,"",ROW()-12) -> 10 | I22: CASS 10
A23: FALSE | H23: =IF(A23=FALSE,"",ROW()-12) | I23: CASS 11
A24: FALSE | H24: =IF(A24=FALSE,"",ROW()-12) | I24: CASS 12

Sheet Welcome
F3: https://www.clientmoneyandassets.com/component/search/?searchword= | G3: &searchphrase=all&Itemid=101
C5: Control | F5: Configuration | I5: Export | L5: Licencing
B6: Welcome
B8: Free XLSX Version of the CASS Rules Mapping Spreadsheet
B9: We’re delighted to offer a complimentary lite version of our CASS Rules Mapping Spreadsheet for download on the CMAC website. This tool is designed to save thousands of man hours every year by downloading and reformatting the FCA CASS rules into a readily usable format for onward processing.
B10: Key Benefits:
B11: l Saves thousands of man hours per year
B12: l Pre-formatted for immediate use
B13: l CASS rules mapping template included
B14: l Helps CASS 6 & 7 firms comply with FRC requirements
B15: l Includes the full text of CASS 1, 1A, 3, 5, 6, 7, 7A, 8, 9, 10, 11, 12, 13 and 14
B16: l Can be used as a secondary data source to reconcile your primary rules mapping systems
B17: l Robotics extraction process ensures quality and accuracy
B18: l On-premise solution—no costly servers or software installation required
... B21: This tool is provided free of charge and for informational purposes only. All copyright in the CASS rules themselves is owned by the Financial Conduct Authority (FCA).

Sheet CASS 1
A1: =INDEX(Settings!$B$13:$B$26,MATCH(MID(CELL("filename",A1),FIND("]",CELL("filename",A1))+1,255),Settings!$I$13:$I$26,0)) -> CASS 1 - Application and general provisions
A3: Ref | B3: R/G | C3: Rule | D3: Effective Date | E3: Risk | F3: In Scope | G3: Responsible Individual | H3: Accountable Individual | I3: Operational Process | J3: Design Effectivness RAG | K3: Operating Effectivness RAG | L3: MI | M3: Notes
A4: _x000D_Application | D4: 0
A5: _x000D_CASS 1.1.1 | B5: G | C5: CASS applies to a firm as specified in the remainder of this chapter. | D5: 38322
A6: _x000D_Purpose | D6: 38322
A7: _x000D_CASS 1.1.2 | B7: G | C7: The purpose of this chapter is to set out to whom, for what activities, and within what territorial limits the rules, evidential provisions and guidance in CASS apply. | D7: 38322
A8: _x000D_General application: who? | D8: 38322
A9: _x000D_CASS 1.2.1 | B9: G | C9: The rules in CASS 1.2 set out the maximum scope of this sourcebook. The application of CASS is modified for certain activities by CASS 1.4. Also particular chapters or sections of CASS may have provisions which limit their application. | D9: 38322
A10: _x000D_CASS 1.2.2 | B10: R | C10: CASS applies to every firm, except as provided for in CASS 1.2.3 R, with respect to the carrying on of:_x000D_ (1) all regulated activities except to the extent that a provision of CASS provides for a narrower application; and_x000D_ _x000D_ (2) unregulated activities to the extent specified in any provision of CASS. | D10: 38322
A11: _x000D_CASS 1.2.3 | B11: R | C11: CASS does not apply to an ICVC.9 | D11: 44197
A12: _x000D_CASS 1.2.4 | B12: R | C12: With the exception of this chapter and the insurance client money chapter, CASS does2 not apply to:_x000D_ 2 (1) an authorised professional firm with respect to its non-mainstream regulated activities; or_x000D_ _x000D_ (2) the Society. | D12: 39387
A13: _x000D_CASS 1.2.5 | B13: R | C13: 1The insurance client money chapter2 does not apply to an authorised professional firm with respect to its non-mainstream regulated activities, which are insurance distribution activities8, if:_x000D_ 2 (1) the firm's designated professional body has made rules which implement article 10.68 of the IDD8;3_x000D_ 3_x000D_ (2) those rules have been approved by the FCA under section 332(5) of the Act; and_x000D_ _x000D_ (3) the firm is subject to the rules in the form in which they were approved. | D13: 43374
A14: _x000D_CASS 1.2.5A | B14: G | C14: (1) 8In the client money chapter and the insurance client money chapter, an insurance undertaking acts as such when it carries on the business of effecting or carrying out contracts of insurance. _x000D_ _x000D_ (2) An insurance undertaking does not act as such when it enters into a reinsurance contract as a client of the reinsurer. | D14: 43374
A15: _x000D_CASS 1.2.6 | B15: G | C15: [deleted]2_x000D_ 2 | D15: 39387
A16: _x000D_General application: what? | D16: 39387
A17: _x000D_CASS 1.2.7 | B17: G | C17: (1) [deleted]7_x000D_ 7_x000D_ (2) 7[deleted]7_x000D_ _x000D_ (3) [deleted]7_x000D_ 7_x000D_ (3A) [deleted]7_x000D_ 7_x000D_ (4) [deleted]7_x000D_ 7_x000D_ (5) [deleted]52_x000D_ 5_x000D_ (6) [deleted]7_x000D_ 7_x000D_ (7) The debt management client money chapter applies to CASS debt management firms receiving or holding client money for, or on behalf of, a client in the course of or in connection with debt management activity.6 | D17: 41821
A18: _x000D_2Application for retail clients, professional clients and eligible counterparties2 | D18: 41821
A19: _x000D_CASS 1.2.8 | B19: G | C19: (1) CASS applies directly in respect of activities conducted with or for all categories of clients.2_x000D_ 2_x000D_ (2) [deleted]5_x000D_ 2225_x000D_ (3) The insurance client money chapter2 does not generally distinguish between different categories of client. However, the term consumer4is used for those to 4whom additional obligations are owed, rather than the term retail client.2 This is to be consistent with the client categories used in 1the Insurance: New Conduct of Business sourcebook4._x000D_ 2424_x000D_ (4) Each provision in the collateral rules, 7custody chapter, 7 the client money chapter and CASS 9 (Information to clients) 7 makes it clear whether it applies to activities carried on for retail clients, professional clients or both. 2_x000D_ 57557_x000D_ (4A) 7There is no further modification of the rules in the chapters referred to in (4) for activities carried on for eligible counterparties. Such clients are treated in the same way as other professional clients for the purposes of these rules._x000D_ _x000D_ (5) The debt management client money chapter generally applies in respect of relevant dealings with the client category known as customers. In general, the client categories of retail clients, professional clients, as well as eligible counterparties, have no relevance to credit-related regulated activities, including debt management activities.6 | D19: 41821
A20: _x000D_CASS 1.2.9 | B20: G | C20: [deleted]2_x000D_ 2 | D20: 39387
A21: _x000D_Application for affiliates7 | D21: 39387
A22: _x000D_CASS 1.2.9A | B22: G | C22: (1) 7The fact that a firm'sclient is an affiliated company for MiFID business does not affect the operation of CASS to the firm in relation to that client._x000D_ _x000D_ (2) For business that is not MiFID business, the operation of the custody chapter or the client money chapter may differ if a firm'sclient is an affiliated company and depending on certain other conditions (see, for example, CASS 6.1.10B R and CASS 7.10.26 R7)._x000D_ 7 | D22: 42156
A23: _x000D_Investments and money held under different regimes | D23: 42156
A24: _x000D_CASS 1.2.10 | B24: R | C24: 2[deleted]5_x000D_ 5 | D24: 39814
A25: _x000D_CASS 1.2.11 | B25: R | C25: 7 (1) 7A firm must not keep money in respect of which any one of the following chapters applies in the same client bank account or client transaction account as money in respect of which another of the following chapters applies:_x000D_ (a) the client money chapter;_x000D_ _x000D_ (b) the insurance client money chapter;_x000D_ _x000D_ (c) the debt management client money chapter._x000D_ _x000D_ _x000D_ (2) 7In accordance with CASS 7.10.36 R7, a firm which is subject to the client money chapter and holds money both (i) in its capacity as a trustee firm and (ii) other than in its capacity as a trustee firm must not keep money held in its capacity as a trustee firm in the same client bank account or client transaction account as money held other than in its capacity as a trustee firm._x000D_ 7_x000D_ (3) 7To the extent that the restriction under (1) or (2) applies to a firm, the client bank accounts and client transaction accounts that a firm holds in respect of different chapters or in its different capacities (as the case may be) must be separately designated. | D25: 42156
A26: _x000D_CASS 1.2.12 | B26: G | C26: 2The purpose of the rules regarding the segregation of investments and money held under different regimes is to reduce the risk of confusion between assets held under different regimes either on an on-going basis or on the failure of a firm or a third party holding those assets. | D26: 39387
A27: _x000D_CASS 1.2.13 | B27: G | C27: 2A firm may, where permitted by the relevant rules7 opt to hold under a single chapter money that would otherwise be held under different chapters (see CASS 7.10.3 R and CASS 7.10.30 R7). However, making such an election does not remove the requirement under CASS 1.2.11R (1). 7_x000D_ 5 5 5 7 5 7 | D27: 42156
A28: _x000D_CASS 1.3.1 | B28: G | C28: The rules in CASS 1.3 set out the maximum territorial scope of this sourcebook. Particular rules3 may have express territorial limitations. | D28: 44197
A29: _x000D_UK establishments: general | D29: 44197
A30: _x000D_CASS 1.3.2 | B30: R | C30: CASS 1 to CASS 13 apply3 to every firm, in relation to regulated activities carried on by it from an establishment in the United Kingdom. | D30: 44197
A31: _x000D_CASS 1.3.2A | B31: G | C31: 3The territorial scope of CASS 14 is set out at CASS 14.1.6R. | D31: 44197
A32: _x000D_CASS 1.3.3 | B32: R | C32: [deleted] 2 | D32: 44197
A33: _x000D_CASS 1.3.4 | B33: R | C33: [deleted] 2_x000D_ 1 | D33: 44197
A34: _x000D_Occupational pension scheme firms (OPS firms) | D34: 44197
A35: _x000D_CASS 1.4.1 | B35: R | C35: In the case of OPS activity undertaken by an OPS firm, CASS applies with the following general modifications:_x000D_ (1) references to customer are to the OPS or welfare trust, whichever fits the case, in respect of which the OPS firm is acting or intends to act, and with or for the benefit of which the relevant activity is to be carried on; and_x000D_ _x000D_ (2) if an OPS firm is required by any rule in CASS to provide information to, or obtain consent from, a customer, that firm must ensure that the information is provided to, or consent obtained from, each of the trustees of the OPS or welfare trust in respect of which that firm is acting, unless the context requires otherwise. | D35: 38322
A36: _x000D_Stock lending activity with or for clients3 | D36: 38322
A37: _x000D_CASS 1.4.2 | B37: G | C37: 1 (1) The custody chapter and the client money chapter apply in respect of any stock lending activity that is undertaken with or for a client3 by a firm. 1_x000D_ 33333_x000D_ (2) The collateral rules apply, where relevant, in respect of stock lending activity.1_x000D_ 3 | D37: 39814
A38: _x000D_Corporate finance business | D38: 39814
A39: _x000D_CASS 1.4.3 | B39: G | C39: 1 (1) The custody chapter and the client money chapter apply in respect of corporate finance business that is undertaken by a firm.1_x000D_ 3333_x000D_ (2) The collateral rules apply, where relevant, in respect of corporate finance business.1_x000D_ 3 | D39: 39814
A40: _x000D_Oil market activity and energy market activity | D40: 39814
A41: _x000D_CASS 1.4.4 | B41: G | C41: 1 (1) The custody chapter and the client money chapter apply in respect of oil market activity and other energy market activity that is undertaken by a firm.1_x000D_ 3333_x000D_ (2) The collateral rules apply, where relevant, in respect of energy market activity.1_x000D_ 3 | D41: 39814
...

Sheet CASS 1A
A1: =INDEX(Settings!$B$13:$B$26,MATCH(MID(CELL("filename",A1),FIND("]",CELL("filename",A1))+1,255),Settings!$I$13:$I$26,0)) -> CASS 1A - CASS firm classification and operational oversight
A3: Ref | B3: R/G | C3: Rule | D3: Effective Date | E3: Risk | F3: In Scope | G3: Responsible Individual | H3: Accountable Individual | I3: Operational Process | J3: Design Effectivness RAG | K3: Operating Effectivness RAG | L3: MI | M3: Notes
A4: _x000D_CASS 1A.1.1 | B4: R | C4: (1) 1Subject to (2), (3) and (4)3, this2 chapter applies to a firm to which either or both of CASS 6 (Custody rules) and CASS 7 (Client money rules) applies._x000D_ 23_x000D_ (2) In relation to a firm to which CASS 5 (Client money: insurance distribution6 activity) and CASS 7 (Client money rules) apply, this chapter does not apply in relation to client money that a firm holds in accordance with CASS 5. _x000D_ _x000D_ (3) The rules and guidance in CASS 1A.2 apply to a firm even if at the date of the determination or, as the case may be, the notification, either or both of CASS 6 and CASS 7 do not apply to it, provided that:_x000D_ (a) either or both of those chapters applied to it during part or all of the previous calendar year; or_x000D_ _x000D_ (b) it projects that either or both will apply to it in the current calendar year.2_x000D_ _x000D_ _x000D_ (4) This chapter does not apply to a firm to which only CASS 6 applies, applied or is projected to apply, merely because:43_x000D_ 4(a) it is, was, or is projected to be a firm which arranges safeguarding and administration of assets; or4_x000D_ _x000D_ (b) when acting as a small AIFM and in relation to excluded custody activities, it would be, would have been or would be projected to be a firm which arranges safeguarding and administration of assets but for the exclusion in article 72AA of the RAO.4 | D4: 43374
A5: _x000D_CASS 1A.1.2 | B5: R | C5: 5The rules and guidance in CASS 1A.2 (CASS firm classification) do not apply to a firm following its failure. | D5: 42942
A6: _x000D_CASS 1A.2.1 | B6: G | C6: The application of certain rules in this chapter depends upon the ‘CASS firm type’ within which a firm falls. The ‘CASS firm types’ are defined in accordance with CASS 1A.2.7 R. The ‘CASS firm type’ within which a firm falls is also used to determine whether it is required to have the CASS operational oversight function described in CASS 1A.3.1A R and1 whether 4the reporting obligations in SUP 16.14 (Client money and asset return) apply to it4._x000D_ 4 | D6: 41275
A7: _x000D_CASS 1A.2.2 | B7: R | C7: (1) A firm must once every year, and by the time it is required to make a notification in accordance with4CASS 1A.2.9R (4), determine whether it is a CASS large firm, CASS medium firm or a CASS small firm according to the amount of client money or safe custody assets which it holds, using the limits set out in the table in CASS 1A.2.7 R._x000D_ 4_x000D_ (2) For the purpose of determining its ‘CASS firm type’ in accordance with CASS 1A.2.7 R, a firm must:_x000D_ (a) if it currently holds client money or safe custody assets, calculate the higher of the highest total amount of client money and the highest total value of safe custody assets held during the previous calendar year ending on 31 December and use that figure to determine its ‘CASS firm type’;_x000D_ _x000D_ (b) if it did not hold client money or safe custody assets in the previous calendar year but projects that it will do so in the current calendar year, calculate the higher of the highest total amount of client money and the highest total value of safe custody assets that it projects that it will hold during that year and use that figure to determine its ‘CASS firm type’; but_x000D_ _x000D_ (c) in either case, exclude from its calculation any client money held in accordance with CASS 5 (Client money: insurance distribution activity) or CASS 13 (Claims management: client money).6_x000D_ 5 | D7: 43556
A8: _x000D_CASS 1A.2.3 | B8: R | C8: For the purpose of calculating the value of the total amounts of client money and safe custody assets that it holds on any given day during a calendar year a firm must:_x000D_ (1) in complying with CASS 1A.2.2R (2)(a), base its calculation upon internal reconciliations performed during the previous year;_x000D_ _x000D_ (2) in relation to client money or safe custody assets denominated in a currency other than sterling, translate the value of that money or that safe custody assets into sterling at the previous day’s closing spot exchange rate; and_x000D_ _x000D_ (3) in relation to safe custody assets only, calculate their total value using the previous day’s closing mark to market valuation, or if in relation to a particular safe custody asset none is available, the most recent available valuation. | D8: 40544
A9: _x000D_CASS 1A.2.4 | B9: G | C9: One of the consequences of CASS 1A.2.2 R is that a firm that determines itself to be a CASS small firm or a CASS medium firm will, at least if it exceeds during the course of a calendar year either of the limits in CASS 1A.2.7 R that applies to it, become in the next calendar year:_x000D_ (1) in the case of a CASS small firm, a CASS medium firm or a CASS large firm; and_x000D_ _x000D_ (2) in the case of a CASS medium firm, a CASS large firm. | D9: 40544
A10: _x000D_CASS 1A.2.5 | B10: R | C10: (1) Notwithstanding CASS 1A.2.2 R, provided that the conditions in (2) are satisfied a firm may elect to be treated:_x000D_ (a) as a CASS medium firm, in the case of a firm that is classed by the application of the limits in CASS 1A.2.7 R as a CASS small firm; and _x000D_ _x000D_ (b) as a CASS large firm, in the case of a firm that is classed by the application of the limits in CASS 1A.2.7 R as a CASS medium firm._x000D_ _x000D_ _x000D_ (2) The conditions to which (1) refers are that in either case:_x000D_ (a) the election is notified4 to the FCAin writing4;_x000D_ 44_x000D_ (b) the notification in accordance with (a) is made4 at least one week before the election is intended to take effect; and_x000D_ 4_x000D_ (c) the FCA has not objected. | D10: 41365
A11: _x000D_CASS 1A.2.6 | B11: G | C11: CASS 1A.2.5 R provides a firm with the ability to opt in to a higher category of ‘CASS firm type’. This may be useful for a firm whose holding of client money and safe custody assets is near the upper categorisation limit for a CASS small firm or a CASS medium firm. | D11: 40544
A12: _x000D_CASS 1A.2.7 | B12: R | C12: CASS firm types_x000D_ _x000D_ _x000D_ CASS firm type_x000D_ _x000D_ Highest total amount of client money held during the firm’s last calendar year or as the case may be that it projects that it will hold during the current calendar year_x000D_ _x000D_ Highest total value of safe custody assets held by the firm during the firm's last calendar year or as the case may be that it projects that it will hold during the current calendar year_x000D_ _x000D_ _x000D_ _x000D_ CASS large firm _x000D_ _x000D_ more than £1 billion _x000D_ _x000D_ more than £100 billion _x000D_ _x000D_ _x000D_ CASS medium firm _x000D_ _x000D_ an amount equal to or greater than £1 million and less than or equal to £1 billion_x000D_ _x000D_ an amount equal to or greater than £10 million and less than or equal to £100 billion_x000D_ _x000D_ _x000D_ CASS small firm _x000D_ _x000D_ less than £1 million_x000D_ _x000D_ less than £10 million | D12: 40544
A13: _x000D_CASS 1A.2.8 | B13: R | C13: [deleted]4 | D13: 41275
A14: _x000D_CASS 1A.2.8A | B14: R | C14: [deleted]4 | D14: 41275
A15: _x000D_CASS 1A.2.9 | B15: R | C15: Once every calendar year a firm must notify to the FCA in writing the information specified in (1), (2) or (3) as applicable, and the information specified in (4), in each case no later than the day specified in (1) to (4):4_x000D_ 4 (1) if it held client money or safe custody assets in the previous calendar year, the highest total amount of client money and the highest total value of safe custody assets held during the previous calendar year, notification of which must be made no later than the fifteenth business day of January; or4_x000D_ 4_x000D_ (2) if it did not hold client money or safe custody assets in the previous calendar year but at any point up to the fifteenth business day of January the firm projects that it will do so in the current calendar year, the highest total amount of client money and the highest total value of safe custody assets that the firm projects that it will hold during the current calendar year, notification of which must be made no later than the fifteenth business day of January4; or_x000D_ 4_x000D_ (3) in any other case, the highest total amount of client money and the highest total value of safe custody assets that the firm projects that it will hold during the remainder of the current calendar year, notification of which must be made no later than the business day before the firm begins to hold client money or safe custody assets4; and_x000D_ 44_x000D_ (4) in every case, of its ‘CASS firm type’ classification, notification of which must be made at the same time the firm makes the notification under (1), (2) or (3)4. | D15: 41365
... A30: _x000D_CASS 1A.3.3 | B30: R | C30: (1) Subject to (2), a firm must make and retain an appropriate record of the person to whom responsibility is allocated in accordance with CASS 1A.3.1 R, CASS 1A.3.1A R or CASS 1A.3.1C R (2)2.1_x000D_ _x000D_ (2) A CASS small firm must make and retain such a record only where it allocates responsibility to a person other than the person in that firm who performs the compliance oversight function._x000D_ _x000D_ (3) A firm must ensure that the record made under this rule is retained for a period of five years after it is made. | D30: 41275

Sheet CASS 3
A1: =INDEX(Settings!$B$13:$B$24,MATCH(MID(CELL("filename",A1),FIND("]",CELL("filename",A1))+1,255),Settings!$I$13:$I$24,0)) -> CASS 3 - Collateral
A3: Ref | B3: R/G | C3: Rule | D3: Effective Date | E3: Risk | F3: In Scope | G3: Responsible Individual | H3: Accountable Individual | I3: Operational Process | J3: Design Effectivness RAG | K3: Operating Effectivness RAG | L3: MI | M3: Notes
A4: _x000D_Application | D4: 0
A5: _x000D_CASS 3.1.1 | B5: R | C5: This chapter1 applies to a firm when it receives or holds assets in connection with an arrangement to secure the obligation of a client in the course of, or in connection with, its designated investment business, including MiFID business1._x000D_ 1 | D5: 39387
A6: _x000D_CASS 3.1.2 | B6: G | C6: Firms are reminded that 4the application of this chapter is also dependent on the location from which the activity is undertaken (see CASS 1.3.2R4)._x000D_ 1 1 1 1 | D6: 44197
A7: _x000D_CASS 3.1.3 | B7: R | C7: This chapter1 does not apply to a firm that has only a bare security interest (without rights to hypothecate) in the client's asset. In such circumstances, the firm must comply with the custody rules or client money rules as appropriate. _x000D_ 1 | D7: 39387
A8: _x000D_CASS 3.1.4 | B8: G | C8: For the purpose of this chapter1 only, a bare security interest in the client's asset gives a firm the right to realise the assets only on a client's default and without the right to use other than in default. _x000D_ 1 | D8: 39387
A9: _x000D_Purpose | D9: 39387
A10: _x000D_CASS 3.1.5 | B10: G | C10: The purpose of this chapter1 is to ensure that an appropriate level of protection is provided for those assets over which a client gives a firm certain rights. The arrangements covered by this chapter1 are those under which the firm is given a right to use the asset, and the firm treats the asset as if legal title and associated rights to that asset had been transferred to the firm subject only to an obligation to return equivalent assets to the client upon satisfaction of the client's obligation to the firm. The rights covered in this chapter1 do not include those arrangements by which the firm has only a bare security interest in the client's asset (in which case the custody rules or client money rules apply). _x000D_ 1 1 1 | D10: 39387
A11: _x000D_CASS 3.1.6 | B11: G | C11: Examples of the arrangements covered by this chapter1 include the taking of collateral by a firm, under the ISDA English Law (transfer of title) and the New York Law Credit Support Annexes (assuming the right to rehypothecate has not been disapplied)._x000D_ 1 | D11: 39387
A12: _x000D_CASS 3.1.7 | B12: G | C12: This chapter1 recognises the need to apply a differing level of regulatory protection to the assets which form the basis of the two different types of arrangement described in CASS 3.1.5 G. Under the bare security interest arrangement, the asset continues to belong to the client until the firm's right to realise that asset crystallises (that is, on the client's default). But under a "right to use arrangement", the client has transferred to the firm the legal title and associated rights to the asset, so that when the firm exercises its right to treat the asset as its own, the asset ceases to belong to the client and in effect becomes the firm's asset and is no longer in need of the full range of client asset protection. The firm may exercise its right to treat the asset as its own by, for example, clearly so identifying the asset in its own books and records._x000D_ 1 | D12: 39387
A13: _x000D_CASS 3.1.7A | B13: G | C13: 3 Firms are reminded of the client's best interests rule which requires a firm to act honestly, fairly and professionally, in accordance with the best interests of its clients, when agreeing to, entering into, exercising its rights under and fulfilling its obligations under an arrangement covered by this chapter, and when structuring its business to include such arrangements. | D13: 41821
A14: _x000D_CASS 3.1.8 | B14: G | C14: 2A prime brokerage firm is reminded of the additional obligations in CASS 9.3.1R which apply to prime brokerage agreements. | D14: 40603
A15: _x000D_Application1 | D15: 40603
A16: _x000D_CASS 3.2.1 | B16: R | C16: [deleted]2_x000D_ 2 | D16: 39387
A17: _x000D_CASS 3.2.2 | B17: R | C17: A firm that receives or holds a client's assets under an arrangement to which this chapter2 applies and which exercises its right to treat the assets as its own must ensure that it maintains adequate records to enable it to meet any future obligations including the return of equivalent assets to the client._x000D_ 2 | D17: 39387
A18: _x000D_CASS 3.2.3 | B18: G | C18: If the firm has the right to use the client's asset under a "right to use arrangement" but has not yet exercised its right to treat the asset as its own, the client money rules or the custody rules will continue to apply as appropriate until such time as the firm exercises its right, at which time CASS 3.2.2 R will apply. | D18: 38322
A19: _x000D_CASS 3.2.4 | B19: G | C19: When appropriate, firms that enter into the arrangements with retail clients 3 covered in this chapter 2will be expected to identify in the statement of custody assets sent to the client in accordance with COBS 16.4 (Statements of client designated investments or client money), article 63 of the MiFID Org Regulation (see COBS 16A.5)5 or CASS 9.5 (Reporting to clients on request)4 details of the assets which form the basis of the arrangements. Where the firm utilises global netting arrangements, a statement of the assets held on this basis will suffice. _x000D_ 2 3 3 | D19: 43103

Sheet CASS 5
A1: =INDEX(Settings!$B$13:$B$24,MATCH(MID(CELL("filename",A1),FIND("]",CELL("filename",A1))+1,255),Settings!$I$13:$I$24,0)) -> CASS 5 - Client money: insurance distribution activity
A3: Ref | B3: R/G | C3: Rule | D3: Effective Date | E3: Risk | F3: In Scope | G3: Responsible Individual | H3: Accountable Individual | I3: Operational Process | J3: Design Effectivness RAG | K3: Operating Effectivness RAG | L3: MI | M3: Notes
A4: _x000D_CASS 5.1.1 | B4: R | C4: (1) CASS 5.1 to CASS 5.6 apply, subject to (2), (3) and CASS 5.1.3 R to CASS 5.1.6 R, to a firm that receives or holds money in the course of or in connection with its insurance distribution activity8._x000D_ _x000D_ (2) CASS 5.1 to CASS 5.6 do not, subject to (3), apply:_x000D_ (a) to a firm to the extent that it acts in accordance with the client money chapter; or6_x000D_ 4_x000D_ (b) [deleted]8_x000D_ _x000D_ (c) to an insurance undertaking in respect of its permitted activities; or_x000D_ _x000D_ (d) to a managing agent when acting as such; or_x000D_ _x000D_ (e) with respect to money held by a firm which:_x000D_ (i) is an approved bank; and_x000D_ _x000D_ (ii) has requisite capital under article 10(6)(b)8 of the IDD8;_x000D_ 55_x000D_ _x000D_ but only when held by the firm in an account with itself, in which case the firm must notify the client (whether through a client agreement, terms of business, or otherwise in writing) that:_x000D_ (iii) money held for that client in an account with the approved bank will be held by the firm as banker and not as trustee (or in Scotland as agent); and_x000D_ _x000D_ (iv) as a result, the money will not be held in accordance with CASS 5.1 to CASS 5.6._x000D_ _x000D_ _x000D_ _x000D_ (3) A firm may elect to comply with:_x000D_ (a) [deleted]8_x000D_ _x000D_ (b) CASS 5.1, CASS 5.2 and CASS 5.4 to CASS 5.6 in respect of money which it receives in the course of carrying on an activity which would be insurance distribution activity8, and which money would be client money, but for article 72D of the Regulated Activities Order (Large risks contracts where risk situated outside the EEA);_x000D_ _x000D_ _x000D_ but the election must be in respect of all the firm's business which consists of that activity._x000D_ _x000D_ (4) A firm must keep a record of any election in (3). | D4: 43374
A5: _x000D_CASS 5.1.2 | B5: G | C5: A firm that is an approved bank, and relies on the exemption under CASS 5.1.1 R (2)(e), should be able to account to all of its clients for amounts held on their behalf at all times. A bank account opened with the firm that is in the name of the client would generally be sufficient. When money from clients deposited with the firm is held in a pooled account, this account should be clearly identified as an account for clients. The firm should also be able to demonstrate that an amount owed to a specific client that is held within the pool can be reconciled with a record showing that individual's client balance and is, therefore, identifiable at any time. | D5: 38366
A6: _x000D_CASS 5.1.3 | B6: R | C6: An authorised professional firm regulated by The Law Society (of England and Wales), The Law Society of Scotland or The Law Society of Northern Ireland that, with respect to its regulated activities, is subject to 7the rules of its designated professional body as specified in CASS 5.1.4 R, in force on 14 January 2005, must comply with those rules7 and if it does so, it will be deemed to comply with CASS 5.2 to CASS 5.6._x000D_ 7 | D6: 40886
A7: _x000D_CASS 5.1.4 | B7: R | C7: For the purposes of CASS 5.1.3 R the relevant rules are:_x000D_ (1) If regulated by the Law Society (of England and Wales);_x000D_ (a) the Solicitors' Accounts Rules 1998; or_x000D_ _x000D_ (b) where applicable, the Solicitors Overseas Practice Rules 1990;_x000D_ _x000D_ _x000D_ (2) if regulated by the Law Society of Scotland, the Solicitors' (Scotland) Accounts, Accounts Certificate, Professional Practice and Guarantee Fund Rules 2001;_x000D_ _x000D_ (3) if regulated by the Law Society of Northern Ireland, the Solicitors' Accounts Regulations 1998. | D7: 38366
A8: _x000D_CASS 5.1.4A | B8: R | C8: (1) 3A firm will, subject to (3), be deemed to comply with CASS 5.3 to CASS 5.6 if it receives or holds client money and it either:2_x000D_ (a) in relation to a service charge, complies with the requirement to segregate such money in accordance with section 42 of the Landlord and Tenant Act 1987 ("the 1987 Act"); or_x000D_ 2_x000D_ (b) in relation to money which is clients' money for the purpose of the Royal Institution of Chartered Surveyors' Rules of Conduct ("RICS rules") in force as at 14 January 2005, it complies with the requirement to segregate and account for such money in accordance with the RICS Members' Accounts rules.2_x000D_ _x000D_ _x000D_ (2) Paragraph (1)(a)2 also applies to a firm in Scotland or in Northern Ireland if in acting as a property manager the firm receives or holds a service charge and complies (so far as practicable) with section 42 of the 1987 Act as if the requirements of that provision applied to it._x000D_ _x000D_ (3) In addition to complying with (1), a firm must ensure that an account in which money held pursuant to the trust fund mentioned in section 42(3) of the 1987 Act or an account maintained in accordance with the RICS rules 2satisfies the requirements in CASS 5.5.49 R to the extent that the firm will hold money as trustee or otherwise on behalf of its clients._x000D_ 2 | D8: 38366
A9: _x000D_CASS 5.1.5 | B9: R | C9: Subject to CASS 5.1.5A Rmoney is not client money when:3_x000D_ (1) it becomes properly due and payable to the firm:_x000D_ (a) for its own account; or_x000D_ _x000D_ (b) in its capacity as agent of an insurance undertaking where the firm acts in accordance with CASS 5.2; or_x000D_ _x000D_ _x000D_ (2) it is otherwise received by the firm pursuant to an arrangement made between an insurance undertaking and another person (other than a firm) by which that other person has authority to underwrite risks, settle claims or handle refunds of premiums on behalf of that insurance undertaking outside the United Kingdom and where the money relates to that business. | D9: 38366
A10: _x000D_CASS 5.1.5A | B10: R | C10: 3 CASS 5.1.5 R (1)(b) and CASS 5.1.5 R (2) do not apply, and hence money is client money, in any case where:_x000D_ (1) in relation to an activity specified in CASS 5.2.3 R (1) (a) to CASS 5.2.3 R (1) (c), the insurance undertaking has agreed that the firm may treat money which it receives and holds as agent of the undertaking, as client money and in accordance with the provisions of CASS 5.3 to CASS 5.6; and_x000D_ _x000D_ (2) the agreement in (1) is in writing and adequate to show that the insurance undertaking consents to its interests under the trusts (or in Scotland agency) in CASS 5.3.2 R or CASS 5.4.7 R being subordinated to the interests of the firm's other clients. | D10: 38366
A11: _x000D_CASS 5.1.6 | B11: R | C11: Except where a firm and an insurance undertaking have (in accordance with CASS 5.1.5A R) agreed otherwise, for the purposes of 3CASS 5.1 to CASS 5.6 an insurance undertaking (when acting as such) with whom a firm conducts insurance distribution activity8 is not to be treated as a client of the firm. | D11: 43374
A12: _x000D_Purpose | D12: 43374
A13: _x000D_CASS 5.1.7 | B13: G | C13: (1) Principle 10 (Clients' assets) requires a firm to arrange adequate protection for clients' assets when the firm is responsible for them. An essential part of that protection is the proper accounting and handling of client money. The rules in CASS 5.1 to CASS 5.6 also give effect to the requirement in article 10.68 of the IDD8 that all necessary measures should be taken to protect clients against the inability of an insurance intermediary to transfer premiums to an insurance undertaking or to transfer the proceeds of a claim or premium refund to the insured._x000D_ 55_x000D_ (2) There are two particular approaches which firms can adopt which reflect options given in article 10.68. The first is to provide by law or contract for a transfer of risk from the insurance intermediary to the insurance undertaking (CASS 5.2). The second is that client money is strictly segregated by being transferred to client accounts that cannot be used to reimburse other creditors in the event of the firm's insolvency (CASS 5.3 and CASS 5.4 provide different means of achieving such segregation). CASS 5.1.5A R permits a firm subject to certain conditions to treat money which it collects as agent of an insurance undertaking as client money; the principle of strict segregation is, however, satisfied because such undertakings must agree to their interests being subordinated to the interests of the firm's other clients.3 | D13: 43374
A14: _x000D_CASS 5.1.8 | B14: G | C14: A firm which carries on MiFID business or designated investment business in relation to life assurance business may, in accordance with CASS 7.10.3R and in relation to that business only, either comply with CASS 7 or elect to comply with the insurance client money chapter.8_x000D_ 4 4 4 4 4 4 5 4 | D14: 43374
A15: _x000D_CASS 5.1.9 | B15: G | C15: Firms are reminded that SUP 3 contains provisions which are relevant to the preparation and delivery of reports by auditors. | D15: 38366
A16: _x000D_Introduction | D16: 38366
A17: _x000D_CASS 5.2.1 | B17: G | C17: If a firm holds money as agent of an insurance undertaking then the firm'sclients (who are not insurance undertakings) will be adequately protected to the extent that the premiums which it receives are treated as being received by the insurance undertaking when they are received by the agent and claims money and premium refunds will only be treated as received by the client when they are actually paid over. The rules in CASS 5.2 make provision for agency agreements between firms and insurance undertakings to contain terms which make clear when money should be held by a firm as agent of an undertaking. Firms should refer to CASS 5.1.5 R to determine the circumstances in which they may treat money held on behalf of insurance undertakings as client money.1 | D17: 38366
A18: _x000D_CASS 5.2.2 | B18: G | C18: (1) Agency agreements between insurance intermediaries and insurance undertakings may be of a general kind and facilitate the introduction of business to the insurance undertaking. Alternatively, an agency agreement may confer on the intermediary contractual authority to commit the insurance undertaking to risk or authority to settle claims or handle premium refunds (often referred to as "binding authorities"). CASS 5.2.3 R requires that binding authorities of this kind must provide that the intermediary is to act as the agent of the insurance undertaking for the purpose of receiving and holding premiums (if the intermediary has authority to commit the insurance undertaking to risk), claims monies (if the intermediary has authority to settle claims on behalf of the insurance undertaking) and premium refunds (if the intermediary has authority to make refunds of premium on behalf of the insurance undertaking). Accordingly such money is not, except where a firm and an insurance undertaking have in compliance with CASS 5.1.5A R agreed otherwise, 1client money for the purposes of CASS 5._x000D_ _x000D_ (2) Other introductory agency agreements may also, depending on their precise terms, satisfy some or all of the requirements of the type of written agreement described in CASS 5.2.3 R1. It is desirable that an intermediary should, before informing its clients (in accordance with CASS 5.2.3 R (3)) that it will receive money as agent of an insurance undertaking, agree the terms of that notification with the relevant insurance undertakings. | D18: 38366
A19: _x000D_Requirement for written agreement before acting as agent of an insurance undertaking | D19: 38366
A20: _x000D_CASS 5.2.3 | B20: R | C20: (1) A firm must not agree to:_x000D_ (a) deal in investments as agent for an insurance undertaking in connection with an insurance distribution activity3; or_x000D_ _x000D_ (b) act as agent for an insurance undertaking for the purpose of settling claims or handling premium refunds; or_x000D_ _x000D_ (c) otherwise receive money as agent of an insurance undertaking;_x000D_ _x000D_ _x000D_ unless:_x000D_ (d) it has entered into a written agreement with the insurance undertaking to that effect; and_x000D_ _x000D_ (e) it is satisfied on reasonable grounds that the terms of the policies issued by the insurance undertaking to the firm'sclients are likely to be compatible with such an agreement; and_x000D_ _x000D_ (f) (i) (in the case of (a)) the agreement required by (d) expressly provides for the firm to act as agent of the insurance undertaking for the purpose of receiving premiums from the firm'sclients; and_x000D_ _x000D_ (ii) (in the case of (b)) the agreement required by (d) expressly provides for the firm to act as agent of the insurance undertaking for the purpose of receiving and holding claims money (or, as the case may be, premium refunds) prior to transmission to the client2 making the claim (or, as the case may be, entitled to the premium refund) in question._x000D_ _x000D_ _x000D_ _x000D_ (2) A firm must retain a copy of any agreement it enters pursuant to (1) for a period of at least six years from the date on which it is terminated._x000D_ _x000D_ (3) Where a firm holds, or is to hold, money as agent for an insurance undertaking it must ensure that it informs those of its clients which are not insurance undertakings and 1whose transactions may be affected by the arrangement (whether in its terms of business, client agreements or otherwise in writing) that it will hold their money as agent of the insurance undertaking and if necessary the extent of such agency and whether it includes all items of client money or is restricted, for example, to the receipt of premiums._x000D_ _x000D_ (4) A firm may (subject to the consent of the insurance undertaking concerned) include in an agreement in (1) provision for client money received by its 1appointed representative, field representatives and other agents1 to be held as agent for the insurance undertaking (in which event it must ensure that the representative or agent 1provides the information to clients required by (3)). | D20: 43374
A21: _x000D_CASS 5.2.4 | B21: G | C21: Firms are reminded that CASS 5.1.5A R1 provides that, if the insurance undertaking has agreed in writing, 1money held in accordance with an agreement made under CASS 5.2.3 R may be treated as 1client money and may (but not otherwise) 1be kept in a client bank account. | D21: 38366
A22: _x000D_CASS 5.2.5 | B22: G | C22: A firm which provides for the protection of a client(which is not an insurance undertaking) 1under CASS 5.2 is relieved of the obligation to provide protection for that client under CASS 5.3 or CASS 5.4 to the extent of the items of client 1money protected by the agency agreement. | D22: 38366
A23: _x000D_CASS 5.2.6 | B23: G | C23: A firm may,1 in accordance with CASS 5.2.3 R (4), arrange for an insurance undertaking to accept responsibility for the money held by its appointed representatives, field representatives, and other agents, in which event CASS 5.5.18 R to CASS 5.5.25 G will not apply.1 | D23: 38366
A24: _x000D_CASS 5.2.7 | B24: G | C24: A firm may operate on the basis of an agency agreement as provided for by CASS 5.2.3 R for some of its clients and with protection provided by a client money trust in accordance with CASS 5.3 or CASS 5.4 for other clients. A firm may also operate on either basis for the same client but in relation to different transactions. A firm which does so should be satisfied that its administrative systems and controls are adequate and, in accordance with CASS 5.2.4 G, should ensure that money held for both types of client and business is kept separate. | D24: 38366
A25: _x000D_CASS 5.3.1 | B25: G | C25: Section 137B(1) of the Act (Miscellaneous ancillary matters) provides that rules may make provision which results in client money being held by a firm on trust (England and Wales and Northern Ireland) or as agent (Scotland only). CASS 5.3.2 R creates a fiduciary relationship between the firm and its client under which client money is in the legal ownership of the firm but remains in the beneficial ownership of the client. In the event of failure of the firm, costs relating to the distribution of client money may have to be borne by the trust. | D25: 41365
A26: _x000D_CASS 5.3.2 | B26: R | C26: A firm (other than a firm acting in accordance with CASS 5.4) receives and holds client money as trustee (or in Scotland as agent) on the following terms:_x000D_ (1) for the purposes of and on the terms of CASS 5.3, CASS 5.5 and the client money (insurance) distribution rules;_x000D_ _x000D_ (2) subject to (4),1 for the clients (other than clients which are insurance undertakings when acting as such)1 for whom that money is held, according to their respective interests in it;_x000D_ _x000D_ (3) after all valid claims in (2) have been met, for clients which are insurance undertakings according to their respective interests in it;1_x000D_ _x000D_ (4) on the 1failure of the firm, for the payment of the costs properly attributable to the distribution of the client money in accordance with (2) and (3)1; and_x000D_ _x000D_ (5) after all valid claims and costs under (2) to (4) 1have been met, for the firm itself. | D26: 38366
A27: _x000D_CASS 5.3.3 | B27: G | C27: (1) A firm which holds client money can discharge its obligation to ensure adequate protection for its clients in respect of such money by complying with CASS 5.3 which provides for such money to be held by the firm on the terms of a trust imposed by the rules._x000D_ _x000D_ (2) The trust imposed by CASS 5.3 is limited to a trust in respect of client money which a firm receives and holds. The consequential and supplementary requirements in CASS 5.5 are designed to secure the proper segregation and maintenance of adequate client money balances. In particular, CASS 5.5 does not permit a firm to use client money balances to provide credit for clients (or potential clients) such that, for example, their premium obligations may be met in advance of the premium being remitted to the firm. A firm wishing to provide credit for clients may however do so out of its own funds. | D27: 38366
A28: _x000D_Introduction | D28: 38366
A29: _x000D_CASS 5.4.1 | B29: G | C29: (1) CASS 5.4 permits a firm, which has adequate resources, systems and controls, to declare a trust on terms which expressly authorise it, in its capacity as trustee, to make advances of credit to the firm'sclients. The client money trust required by CASS 5.4 extends to such debt obligations which will arise if the firm, as trustee, makes credit advances, to enable a client's3premium obligations to be met before the premium is remitted to the firm and similarly if it allows claims and premium refunds to be paid to the client before receiving remittance of those monies from the insurance undertaking._x000D_ _x000D_ (2) CASS 5.4 does not permit a firm to make advances of credit to itself out of the client money trust. Accordingly, CASS 5.4 does not permit a firm to withdraw commission from the client money trust before it has received the premium from the client in relation to the non-investment insurance contract which generated the commission. | D29: 40274
A30: _x000D_Voluntary nature of this section | D30: 40274
A31: _x000D_CASS 5.4.2 | B31: R | C31: A firm may elect to comply with the requirements in this section, and may do so for some of its business whilst complying with CASS 5.3 for other parts. | D31: 38366
A32: _x000D_CASS 5.4.3 | B32: R | C32: A firm is not subject to CASS 5.3 when and to the extent that it acts in accordance with this section. | D32: 38366
A33: _x000D_Conditions for using the non-statutory client money trust | D33: 38366
A34: _x000D_CASS 5.4.4 | B34: R | C34: A firm may not handle client money in accordance with the rules in this section unless each of the following conditions is satisfied:_x000D_ (1) the firm must have and maintain systems and controls which are adequate to ensure that the firm is able to monitor and manage its client money transactions and any credit risk arising from the operation of the trust arrangement and, if in accordance with CASS 5.4.2 R a firm complies with both the rules in CASS 5.3 and CASS 5.4, such systems and controls must extend to both arrangements;_x000D_ _x000D_ (2) the firm must obtain, and keep current, written confirmation from its auditor that it has in place systems and controls which are adequate to meet the requirements in (1);_x000D_ _x000D_ (3) the firm must designate a manager with responsibility for overseeing the firm's day to day compliance with the systems and controls in (1) and the rules in this section; _x000D_ _x000D_ (4) the firm (if, under the terms of the non-statutory trust, it is to handle client money for retail customers) must have and at all times maintain capital resources of not less than £50,000 calculated in accordance with 2MIPRU 4.4.1 R; and_x000D_ 2_x000D_ (5) in relation to each of the clients for whom the firm holds money in accordance with CASS 5.4, the firm must take reasonable steps to ensure that its terms of business or other client agreements adequately explain, and obtain the client's informed consent to, the firm holding the client'smoney in accordance with CASS 5.4 (and in the case of a client which is an insurance undertaking (when acting as such) there must be an agreement which satisfies CASS 5.1.5A R)1. | D34: 39083
A35: _x000D_CASS 5.4.5 | B35: G | C35: The amount of a firm's capital resources maintained for the purposes of 2MIPRU 4.2.11 R2 will also satisfy (in whole or in part) the requirement in CASS 5.4.4 R (4). | D35: 39083
A36: _x000D_Client money to be received under the non-statutory client money trust | D36: 39083
A37: _x000D_CASS 5.4.6 | B37: R | C37: Except to the extent that a firm acts in accordance with CASS 5.3, a1firm must not receive or hold any client money unless it does so as trustee (or, in Scotland, as agent) and has properly executed a deed (or equivalent formal document) to that effect. | D37: 38366
A38: _x000D_Contents of trust deed | D38: 38366
A39: _x000D_CASS 5.4.7 | B39: R | C39: The deed referred to in CASS 5.4.6 R must provide that the money (and, if appropriate, designated investments) are held:_x000D_ (1) for the purposes of and on the terms of:_x000D_ (a) CASS 5.4;_x000D_ _x000D_ (b) the applicable provisions of CASS 5.5; and_x000D_ _x000D_ (c) the client money (insurance) distribution rules_x000D_ _x000D_ _x000D_ (2) subject to (41), for the clients (other than clients which are insurance undertakings when acting as such) 1for whom that money is held, according to their respective interests in it;_x000D_ _x000D_ (3) after all valid claims in (2) have been met for clients which are insurance undertakings according to their respective interests in it;1_x000D_ _x000D_ (4) on failure of the firm, for the payment of the costs properly attributable to the distribution of the client money in accordance with (2) and (3)1; and_x000D_ _x000D_ (5) after all valid claims and costs under (2) to (4) 1have been met, for the firm itself. | D39: 38366
A40: _x000D_CASS 5.4.8 | B40: R | C40: The deed (or equivalent formal document) referred to in CASS 5.4.6 R may provide that:_x000D_ (1) the firm, acting as trustee (or, in Scotland, as agent), has power to make advances or give credit to clients or insurance undertakings from client money, provided that it also provides that any debt or other obligation of a client or resulting obligation of an insurance undertaking, in relation to an advance or credit, is held on the same terms as CASS 5.4.7 R;_x000D_ _x000D_ (2) the benefit of a letter of credit or unconditional guarantee provided by an approved bank on behalf of a firm to satisfy any shortfall in the firm'sclientmoney resource (as calculated under CASS 5.5.65 R) when compared with the firm's client money requirement (as calculated under CASS 5.5.66 R or as appropriate CASS 5.5.68 R), is held on the same terms as CASS 5.4.7 R. | D40: 38366
A41: _x000D_Application | D41: 38366
...

Sheet CASS 6
A1: =INDEX(Settings!$B$13:$B$24,MATCH(MID(CELL("filename",A1),FIND("]",CELL("filename",A1))+1,255),Settings!$I$13:$I$24,0)) -> CASS 6 - Custody rules
A3: Ref | B3: R/G | C3: Rule | D3: Effective Date | E3: Risk | F3: In Scope | G3: Responsible Individual | H3: Accountable Individual | I3: Operational Process | J3: Design Effectivness RAG | K3: Operating Effectivness RAG | L3: MI | M3: Notes
A4: _x000D_CASS 6.1.1 | B4: R | C4: This chapter (the custody rules) applies to a firm:21_x000D_ (1) [deleted]2_x000D_ 2(a) [deleted]2_x000D_ 2_x000D_ (b) [deleted]2_x000D_ 2_x000D_ _x000D_ (1A) 2when it holds financial instruments belonging to a client in the course of its MiFID business;_x000D_ 7_x000D_ (1B) 2when it is safeguarding and administering investments, in the course of business that is not MiFID business;7_x000D_ _x000D_ (1C) when it is acting as trustee or depositary of an AIF; 7_x000D_ 9_x000D_ (1D) when it is acting as trustee or depositary of a UCITS; and97_x000D_ _x000D_ (1E) in respect of any arrangement for a client to transfer full ownership of a safe custody asset (or an asset which would be a safe custody asset but for the arrangement)14 to the firm which is: _x000D_ (a) in the course of, or in connection with, the firm'sdesignated investment business; and _x000D_ _x000D_ (b) for the purpose of securing or otherwise covering present or future, actual or contingent or prospective obligations, and14 the application of the custody rules to a firm under this paragraph is set out in14 the rules and guidance in CASS 6.1.6 R to CASS 6.1.9 G; and10_x000D_ 9_x000D_ _x000D_ (1F) when it is a small AIFM carrying on excluded custody activities.10_x000D_ _x000D_ (2) [deleted]2_x000D_ 2 | D4: 43103
A5: _x000D_CASS 6.1.1-A | B5: R | C5: 10In applying the custody rules to a small AIFM'sexcluded custody activities, any reference to a firm carrying on the regulated activities of safeguarding and administering investments, safeguarding and administering assets (without arranging) or arranging safeguarding and administration of assets includes those excluded custody activities that would, but for the exclusion in article 72AA of the RAO, amount to whichever of those regulated activities is referred to. | D5: 42095
